BEGIN:VCALENDAR
VERSION:2.0
PRODID:-//Discover Cape Agulhas - ECPv6.15.13.1//NONSGML v1.0//EN
CALSCALE:GREGORIAN
METHOD:PUBLISH
X-WR-CALNAME:Discover Cape Agulhas
X-ORIGINAL-URL:https://capeagulhastourism.co.za
X-WR-CALDESC:Events for Discover Cape Agulhas
REFRESH-INTERVAL;VALUE=DURATION:PT1H
X-Robots-Tag:noindex
X-PUBLISHED-TTL:PT1H
BEGIN:VTIMEZONE
TZID:Africa/Johannesburg
BEGIN:STANDARD
TZOFFSETFROM:+0200
TZOFFSETTO:+0200
TZNAME:SAST
DTSTART:20250101T000000
END:STANDARD
END:VTIMEZONE
BEGIN:VEVENT
DTSTART;TZID=Africa/Johannesburg:20260319T170000
DTEND;TZID=Africa/Johannesburg:20260530T200000
DTSTAMP:20260424T014746
CREATED:20260317T130627Z
LAST-MODIFIED:20260401T073953Z
UID:14187-1773939600-1780171200@capeagulhastourism.co.za
SUMMARY:Dapple
DESCRIPTION:An art exhibition including and inspired by quilting and the shifting patches of filtered light – curated by Alex Hamilton \nExhibition closes on 30 May 2026 \n 
URL:https://capeagulhastourism.co.za/event/dapple/
LOCATION:Art @ Napier Gallery\, 44 Sarel Cilliers Street\, Napier\, South Africa
ATTACH;FMTTYPE=image/jpeg:https://capeagulhastourism.co.za/wp-content/uploads/2026/03/IMG-20260317-WA0013.jpg
END:VEVENT
BEGIN:VEVENT
DTSTART;TZID=Africa/Johannesburg:20260422T100000
DTEND;TZID=Africa/Johannesburg:20260424T130000
DTSTAMP:20260424T014746
CREATED:20260421T083509Z
LAST-MODIFIED:20260421T083509Z
UID:14560-1776852000-1777035600@capeagulhastourism.co.za
SUMMARY:Aarde & Hotagterklip Uitstalling
DESCRIPTION:Vir meer inligting kontak: Emmerentia de Kock by dekockemma@gmail.com
URL:https://capeagulhastourism.co.za/event/aarde-hotagterklip-uitstalling/
LOCATION:Agulhas Heemhuis\, Van Druten Cresent\, Agulhas
ATTACH;FMTTYPE=image/jpeg:https://capeagulhastourism.co.za/wp-content/uploads/2026/04/IMG-20260421-WA0023.jpg
END:VEVENT
BEGIN:VEVENT
DTSTART;TZID=Africa/Johannesburg:20260423T080000
DTEND;TZID=Africa/Johannesburg:20260511T170000
DTSTAMP:20260424T014746
CREATED:20260423T084317Z
LAST-MODIFIED:20260423T084317Z
UID:14593-1776931200-1778518800@capeagulhastourism.co.za
SUMMARY:Wêreld Boeke Dag
DESCRIPTION:Ondersteun ons by ons Boek verkope om Wêreld Boeke Dag te vier!
URL:https://capeagulhastourism.co.za/event/wereld-boeke-dag/
LOCATION:Bredasdorp Shipwreck Museum\, Independent Street\, Bredasdorp\, South Africa
ATTACH;FMTTYPE=image/jpeg:https://capeagulhastourism.co.za/wp-content/uploads/2026/04/676808331_1376909941123647_1330624271616089772_n.jpg
END:VEVENT
BEGIN:VEVENT
DTSTART;TZID=Africa/Johannesburg:20260423T090000
DTEND;TZID=Africa/Johannesburg:20260424T140000
DTSTAMP:20260424T014746
CREATED:20260422T091119Z
LAST-MODIFIED:20260422T091119Z
UID:14570-1776934800-1777039200@capeagulhastourism.co.za
SUMMARY:COMMUNITY PARK REVITALIZATION PROJECT
DESCRIPTION:COMMUNITY PARK REVITALIZATION PROJECT: BUILDING A VIBRANT COMMUNITY SPACE!\n\n\nJoin us as we transform the Anene Booysen Park into a vibrant destination for everyone! We are excited to invite you to witness the introduction of new educational painted floor games\, including Chess\, Snakes and Ladders\, Morabaraba\, Tic-tac-toe\, Hopscotch\, and Mazes\, alongside our functional skate park.\n\n\nThis is a space built for every generation\, from our youngest explorers to our elderly residents\, to enjoy a lively atmosphere of play\, learning\, and connection.\n\n\nLet’s come together to celebrate a space that truly belongs to all of us!\n_______________________________________________\n\n\n\nGEMEENSKAPSPARK-HERLEWINGSPROJEK: DIE BOU VAN ‘N LEWENDIGE GEMEENSKAPSRUIMTE!\n\n\nSluit by ons aan terwyl ons die Anene Booysen Park in ‘n lewendige bestemming vir almal omskep! Ons is opgewonde om u uit te nooi om die bekendstelling van nuwe opvoedkundige geverfde vloerspeletjies te aanskou\, insluitend Skaak\, Slange en Lere\, Morabaraba\, Bo-tjokkie\, Hopscotch en Doolhowe\, saam met ons funksionele skaatspark.\n\n\nDit is ‘n ruimte wat vir elke generasie gebou is\, van ons jongste ontdekkingsreisigers tot ons bejaarde inwoners\, om ‘n lewendige atmosfeer van spel\, leer en verbinding te geniet.\n\n\nKom ons kom saam om ‘n ruimte te vier wat werklik aan ons almal behoort!\n\n\n\n#CommunityRevitalization #CapeAgulhas #AneneBooysenPark #CommunityFirst #PlayAndLearn
URL:https://capeagulhastourism.co.za/event/community-park-revitalization-project/
LOCATION:Anene Booysen Park\, Bastiaan Street\, Bredasdorp\, South Africa
ATTACH;FMTTYPE=image/jpeg:https://capeagulhastourism.co.za/wp-content/uploads/2026/04/675506512_1399819805512998_8455088066757912444_n.jpg
END:VEVENT
BEGIN:VEVENT
DTSTART;TZID=Africa/Johannesburg:20260424T080000
DTEND;TZID=Africa/Johannesburg:20260426T170000
DTSTAMP:20260424T014746
CREATED:20260212T073640Z
LAST-MODIFIED:20260212T073640Z
UID:14002-1777017600-1777222800@capeagulhastourism.co.za
SUMMARY:Wild & Wise Retreats
DESCRIPTION:Self-expression Art with Eri-Kah van Breda \nIncludes 2 nights accommodation and meals \nContact us at bookings@overbergrenosterveld.org.za or whatsapp 072 056 9253
URL:https://capeagulhastourism.co.za/event/wild-wise-retreats-3/
LOCATION:Haarwegskloof Renosterveld Reserve\, R319 Swellendam Road\, Bredasdorp\, South Africa
ATTACH;FMTTYPE=image/jpeg:https://capeagulhastourism.co.za/wp-content/uploads/2026/02/IMG-20260212-WA0004.jpg
END:VEVENT
BEGIN:VEVENT
DTSTART;TZID=Africa/Johannesburg:20260424T160000
DTEND;TZID=Africa/Johannesburg:20260424T190000
DTSTAMP:20260424T014746
CREATED:20260409T123911Z
LAST-MODIFIED:20260409T123911Z
UID:14469-1777046400-1777057200@capeagulhastourism.co.za
SUMMARY:Un-Wined
DESCRIPTION:Join us for our next Un-Wined session!
URL:https://capeagulhastourism.co.za/event/un-wined/
LOCATION:Pickledgreen Napier\, 41 Sarel Cilliers Street\, Napier\, South Africa
ATTACH;FMTTYPE=image/jpeg:https://capeagulhastourism.co.za/wp-content/uploads/2026/04/659104872_17962365999063441_4103548548950581874_n.jpg
END:VEVENT
BEGIN:VEVENT
DTSTART;TZID=Africa/Johannesburg:20260424T173000
DTEND;TZID=Africa/Johannesburg:20260424T210000
DTSTAMP:20260424T014746
CREATED:20260422T091922Z
LAST-MODIFIED:20260422T091922Z
UID:14574-1777051800-1777064400@capeagulhastourism.co.za
SUMMARY:Stoep Kuier saam met Liza Struwig
DESCRIPTION:The sun is out again\, but there’s still a bite in the air — perfect for cold drinks\, warm fires and a midweek catch-up at Mojo’s.\n\n\nHappy Hour and a Half starts today\, and it’s also Burger Special night \n\n\nMojo Burger — R129\nBacon & Cheese or Cheddamelt — R109\n\n\nNo weekend plans yet? Liza Struwig will be playing live on Friday.\n\n\nHappy Hour and a Half: 17:30–19:00\n\n\n#Mojos #BurgerDay #HappyHour #MidweeksAtMojos #Bredasdorp
URL:https://capeagulhastourism.co.za/event/stoep-kuier-saam-met-liza-struwig/
LOCATION:Mojo’s Bistro Bar & Events @ Bredasdorp Golf Club\, 24 Recreation Street\, Bredasdorp\, 7280\, South Africa
ATTACH;FMTTYPE=image/jpeg:https://capeagulhastourism.co.za/wp-content/uploads/2026/04/675510896_942456961970381_7961811022623293063_n.jpg
END:VEVENT
END:VCALENDAR