BEGIN:VCALENDAR
VERSION:2.0
PRODID:-//Discover Cape Agulhas - ECPv6.15.13.1//NONSGML v1.0//EN
CALSCALE:GREGORIAN
METHOD:PUBLISH
X-WR-CALNAME:Discover Cape Agulhas
X-ORIGINAL-URL:https://capeagulhastourism.co.za
X-WR-CALDESC:Events for Discover Cape Agulhas
REFRESH-INTERVAL;VALUE=DURATION:PT1H
X-Robots-Tag:noindex
X-PUBLISHED-TTL:PT1H
BEGIN:VTIMEZONE
TZID:Africa/Johannesburg
BEGIN:STANDARD
TZOFFSETFROM:+0200
TZOFFSETTO:+0200
TZNAME:SAST
DTSTART:20230101T000000
END:STANDARD
END:VTIMEZONE
BEGIN:VEVENT
DTSTART;TZID=Africa/Johannesburg:20260418T140000
DTEND;TZID=Africa/Johannesburg:20260418T170000
DTSTAMP:20260422T103552
CREATED:20260402T070806Z
LAST-MODIFIED:20260402T070806Z
UID:14409-1776520800-1776531600@capeagulhastourism.co.za
SUMMARY:Sourdough Workshop
DESCRIPTION:Learn how to make your own Sourdough Bread! \n\nYou don’t need to be a master baker to join  — we keep it simple\, practical\, and informative\, so you can confidently bake sourdough at home.\n\n\n\nIncludes – sourdough starter\, notes & recipe\, baked sourdough\n\n\n\nWhatsapp 079 103 8900 to book
URL:https://capeagulhastourism.co.za/event/sourdough-workshop-9/
LOCATION:Red Hen Kitchen\, Struisbaai\, South Africa
CATEGORIES:Baking
ATTACH;FMTTYPE=image/jpeg:https://capeagulhastourism.co.za/wp-content/uploads/2026/04/660931639_122252113424138160_2979349543740336794_n.jpg
END:VEVENT
BEGIN:VEVENT
DTSTART;TZID=Africa/Johannesburg:20240627T080000
DTEND;TZID=Africa/Johannesburg:20240627T170000
DTSTAMP:20260422T103552
CREATED:20240621T085801Z
LAST-MODIFIED:20240624T072946Z
UID:5329-1719475200-1719507600@capeagulhastourism.co.za
SUMMARY:Tuck Tuck ZA
DESCRIPTION:Traditional\, hand-made Pasteis de Nata now available each Thursday from 12pm\, at Varsmark in Bredasdorp. Only good better butter\, free range eggs\, and the best quality ingredients are used in all our products. Pay a little more\, get the best. Made with the utmost care in hygienically approved premises. \nWhat’s not to like?
URL:https://capeagulhastourism.co.za/event/tuck-tuck-za/
LOCATION:Bredasdorp\, 39 Fletcher Street\, Bredasdorp\, Western Cape\, South Africa
CATEGORIES:Baking
ATTACH;FMTTYPE=image/jpeg:https://capeagulhastourism.co.za/wp-content/uploads/2024/06/448700967_835004485315662_2461602740479179223_n.jpg
ORGANIZER;CN="Varsmark":MAILTO:varsmarkbredasdorp@gmail.com
END:VEVENT
END:VCALENDAR